BEGIN:VCALENDAR
VERSION:2.0
PRODID:-//Kings Cliffe Parish Council//Meeting Calendar//EN
CALSCALE:GREGORIAN
METHOD:PUBLISH
BEGIN:VEVENT
UID:70396-20210121@kingscliffe-pc.gov.uk
DTSTAMP:20260424T140718Z
DTSTART;VALUE=DATE:20210121
DTEND;VALUE=DATE:20210122
SUMMARY:Full Council Meeting &#8211\\; 2021
DESCRIPTION:Full Council Meeting\nView details: https://kingscliffe-pc.gov.uk/meetings/full-council-meeting-2021/
URL:https://kingscliffe-pc.gov.uk/meetings/full-council-meeting-2021/
END:VEVENT
END:VCALENDAR
