BEGIN:VCALENDAR
VERSION:2.0
PRODID:-//Kings Cliffe Parish Council//Meeting Calendar//EN
CALSCALE:GREGORIAN
METHOD:PUBLISH
BEGIN:VEVENT
UID:70412-20220112@kingscliffe-pc.gov.uk
DTSTAMP:20260424T135734Z
DTSTART;VALUE=DATE:20220112
DTEND;VALUE=DATE:20220113
SUMMARY:Full Council Meeting &#8211\\; 2022
DESCRIPTION:Full Council Meeting\nView details: https://kingscliffe-pc.gov.uk/meetings/full-council-meeting-2022/
URL:https://kingscliffe-pc.gov.uk/meetings/full-council-meeting-2022/
END:VEVENT
END:VCALENDAR
