BEGIN:VCALENDAR
VERSION:2.0
PRODID:-//Kings Cliffe Parish Council//Meeting Calendar//EN
CALSCALE:GREGORIAN
METHOD:PUBLISH
BEGIN:VEVENT
UID:70426-20230106@kingscliffe-pc.gov.uk
DTSTAMP:20260424T155348Z
DTSTART;VALUE=DATE:20230106
DTEND;VALUE=DATE:20230107
SUMMARY:Full Council Meeting &#8211\\; 2023
DESCRIPTION:Full Council Meeting\nView details: https://kingscliffe-pc.gov.uk/meetings/full-council-meeting-2023/
URL:https://kingscliffe-pc.gov.uk/meetings/full-council-meeting-2023/
END:VEVENT
END:VCALENDAR
