BEGIN:VCALENDAR
VERSION:2.0
PRODID:-//Kings Cliffe Parish Council//Meeting Calendar//EN
CALSCALE:GREGORIAN
METHOD:PUBLISH
BEGIN:VEVENT
UID:70459-20240418@kingscliffe-pc.gov.uk
DTSTAMP:20260422T155623Z
DTSTART;VALUE=DATE:20240418
DTEND;VALUE=DATE:20240419
SUMMARY:Annual Council Meeting &#8211\\; 18th April 2024
DESCRIPTION:Annual Meeting\nView details: https://kingscliffe-pc.gov.uk/meetings/annual-council-meeting-18th-april-2024/
URL:https://kingscliffe-pc.gov.uk/meetings/annual-council-meeting-18th-april-2024/
END:VEVENT
END:VCALENDAR
