BEGIN:VCALENDAR
VERSION:2.0
PRODID:-//Kings Cliffe Parish Council//Meeting Calendar//EN
CALSCALE:GREGORIAN
METHOD:PUBLISH
BEGIN:VEVENT
UID:70463-20240613@kingscliffe-pc.gov.uk
DTSTAMP:20260424T155632Z
DTSTART;VALUE=DATE:20240613
DTEND;VALUE=DATE:20240614
SUMMARY:Council Meeting &#8211\\; 13th June 2024
DESCRIPTION:Full Council Meeting\nView details: https://kingscliffe-pc.gov.uk/meetings/council-meeting-13th-june-2024/
URL:https://kingscliffe-pc.gov.uk/meetings/council-meeting-13th-june-2024/
END:VEVENT
END:VCALENDAR
