BEGIN:VCALENDAR
VERSION:2.0
PRODID:-//Kings Cliffe Parish Council//Meeting Calendar//EN
CALSCALE:GREGORIAN
METHOD:PUBLISH
BEGIN:VEVENT
UID:70466-20240711@kingscliffe-pc.gov.uk
DTSTAMP:20260424T173400Z
DTSTART;VALUE=DATE:20240711
DTEND;VALUE=DATE:20240712
SUMMARY:Council Meeting &#8211\\; 11th July 2024
DESCRIPTION:Full Council Meeting\nView details: https://kingscliffe-pc.gov.uk/meetings/council-meeting-11th-july-2024/
URL:https://kingscliffe-pc.gov.uk/meetings/council-meeting-11th-july-2024/
END:VEVENT
END:VCALENDAR
