BEGIN:VCALENDAR
VERSION:2.0
PRODID:-//Kings Cliffe Parish Council//Meeting Calendar//EN
CALSCALE:GREGORIAN
METHOD:PUBLISH
BEGIN:VEVENT
UID:70468-20240808@kingscliffe-pc.gov.uk
DTSTAMP:20260424T190106Z
DTSTART;VALUE=DATE:20240808
DTEND;VALUE=DATE:20240809
SUMMARY:Council Meeting &#8211\\; 8th August 2024
DESCRIPTION:Full Council Meeting\nView details: https://kingscliffe-pc.gov.uk/meetings/council-meeting-8th-august-2024/
URL:https://kingscliffe-pc.gov.uk/meetings/council-meeting-8th-august-2024/
END:VEVENT
END:VCALENDAR
