BEGIN:VCALENDAR
VERSION:2.0
PRODID:-//Kings Cliffe Parish Council//Meeting Calendar//EN
CALSCALE:GREGORIAN
METHOD:PUBLISH
BEGIN:VEVENT
UID:71005-20250410@kingscliffe-pc.gov.uk
DTSTAMP:20260422T155623Z
DTSTART;VALUE=DATE:20250410
DTEND;VALUE=DATE:20250411
SUMMARY:Annual Parish Meeting
DESCRIPTION:Annual Meeting\nView details: https://kingscliffe-pc.gov.uk/meetings/annual-parish-meeting/
URL:https://kingscliffe-pc.gov.uk/meetings/annual-parish-meeting/
END:VEVENT
END:VCALENDAR
