BEGIN:VCALENDAR
VERSION:2.0
PRODID:-//Kings Cliffe Parish Council//Meeting Calendar//EN
CALSCALE:GREGORIAN
METHOD:PUBLISH
BEGIN:VEVENT
UID:71223-20250929@kingscliffe-pc.gov.uk
DTSTAMP:20260424T083907Z
DTSTART;VALUE=DATE:20250929
DTEND;VALUE=DATE:20250930
SUMMARY:Extra Ordinary Meeting September 2025
DESCRIPTION:Full Council Meeting\nView details: https://kingscliffe-pc.gov.uk/meetings/extra-ordinary-meeting-september-2025/
URL:https://kingscliffe-pc.gov.uk/meetings/extra-ordinary-meeting-september-2025/
END:VEVENT
END:VCALENDAR
