BEGIN:VCALENDAR
VERSION:2.0
PRODID:-//Kings Cliffe Parish Council//Meeting Calendar//EN
CALSCALE:GREGORIAN
METHOD:PUBLISH
BEGIN:VEVENT
UID:71246-20251015@kingscliffe-pc.gov.uk
DTSTAMP:20260422T144955Z
DTSTART;VALUE=DATE:20251015
DTEND;VALUE=DATE:20251016
SUMMARY:Extraordinary Meeting &#8211\\; 15 October 2025 (6:30pm)
DESCRIPTION:Full Council Meeting\nView details: https://kingscliffe-pc.gov.uk/meetings/extraordinary-meeting-15-october-2025-630pm/
URL:https://kingscliffe-pc.gov.uk/meetings/extraordinary-meeting-15-october-2025-630pm/
END:VEVENT
END:VCALENDAR
