BEGIN:VCALENDAR
VERSION:2.0
PRODID:-//Kings Cliffe Parish Council//Meeting Calendar//EN
CALSCALE:GREGORIAN
METHOD:PUBLISH
BEGIN:VEVENT
UID:71289-20251121@kingscliffe-pc.gov.uk
DTSTAMP:20260423T103626Z
DTSTART;VALUE=DATE:20251121
DTEND;VALUE=DATE:20251122
SUMMARY:Cemetery &#038\\; Church Yard Committee Meeting &#8211\\; Friday 21 November 2025
DESCRIPTION:Church &amp; Cemetery Committee Meeting\nView details: https://kingscliffe-pc.gov.uk/meetings/cemetery-church-yard-committee-meeting/
URL:https://kingscliffe-pc.gov.uk/meetings/cemetery-church-yard-committee-meeting/
END:VEVENT
END:VCALENDAR
